BEGIN:VCALENDAR
VERSION:2.0
PRODID:-//ZContent.net//ZapCalLib 1.0//EN
CALSCALE:GREGORIAN
METHOD:PUBLISH
BEGIN:VEVENT
SUMMARY:Case 2 — progression following adjuvant treatment
DTSTART:20251209T191000
DTEND:20251209T202000
UID:Case 2 — progression following adjuvant treatment56145_1776859532
DTSTAMP:20260422T120532
Description:
END:VEVENT
END:VCALENDAR
