BEGIN:VCALENDAR
VERSION:2.0
PRODID:-//ZContent.net//ZapCalLib 1.0//EN
CALSCALE:GREGORIAN
METHOD:PUBLISH
BEGIN:VEVENT
SUMMARY:Case 1 — role of delayed nephrectomy
DTSTART:20251209T190000
DTEND:20251209T201000
UID:Case 1 — role of delayed nephrectomy56144_1776915374
DTSTAMP:20260423T033614
Description:
END:VEVENT
END:VCALENDAR
