BEGIN:VCALENDAR
VERSION:2.0
PRODID:-//ZContent.net//ZapCalLib 1.0//EN
CALSCALE:GREGORIAN
METHOD:PUBLISH
BEGIN:VEVENT
SUMMARY:In which patients with renal cell carcinoma should dual immunothera
 py be the treatment of choice?
DTSTART:20251209T184500
DTEND:20251209T195500
UID:In which patients with renal cell carcinoma should dual immunotherapy b
 e the treatment of choice?56142_1776792299
DTSTAMP:20260421T172459
Description:
END:VEVENT
END:VCALENDAR
