BEGIN:VCALENDAR
VERSION:2.0
PRODID:-//ZContent.net//ZapCalLib 1.0//EN
CALSCALE:GREGORIAN
METHOD:PUBLISH
BEGIN:VEVENT
SUMMARY:Treatment of metastatic non-ccRCC
DTSTART:20251209T183000
DTEND:20251209T194500
UID:Treatment of metastatic non-ccRCC56141_1776792299
DTSTAMP:20260421T172459
Description:
END:VEVENT
END:VCALENDAR
