BEGIN:VCALENDAR
VERSION:2.0
PRODID:-//ZContent.net//ZapCalLib 1.0//EN
CALSCALE:GREGORIAN
METHOD:PUBLISH
BEGIN:VEVENT
SUMMARY:Treatment of metastatic ccRCC
DTSTART:20251209T181000
DTEND:20251209T193000
UID:Treatment of metastatic ccRCC56140_1776914598
DTSTAMP:20260423T032318
Description:
END:VEVENT
END:VCALENDAR
