BEGIN:VCALENDAR
VERSION:2.0
PRODID:-//ZContent.net//ZapCalLib 1.0//EN
CALSCALE:GREGORIAN
METHOD:PUBLISH
BEGIN:VEVENT
SUMMARY:Adjuvant treatment
DTSTART:20251209T175500
DTEND:20251209T191000
UID:Adjuvant treatment56139_1776968926
DTSTAMP:20260423T182846
Description:
END:VEVENT
END:VCALENDAR
