BEGIN:VCALENDAR
VERSION:2.0
PRODID:-//ZContent.net//ZapCalLib 1.0//EN
CALSCALE:GREGORIAN
METHOD:PUBLISH
BEGIN:VEVENT
SUMMARY:Surgery in RCC (NSS, RN, metastasectomy)
DTSTART:20251209T173500
DTEND:20251209T185500
UID:Surgery in RCC (NSS, RN, metastasectomy)56138_1776969359
DTSTAMP:20260423T183559
Description:
END:VEVENT
END:VCALENDAR
