BEGIN:VCALENDAR
VERSION:2.0
PRODID:-//ZContent.net//ZapCalLib 1.0//EN
CALSCALE:GREGORIAN
METHOD:PUBLISH
BEGIN:VEVENT
SUMMARY:Introduction
DTSTART:20251209T173000
DTEND:20251209T183500
UID:Introduction56137_1776839272
DTSTAMP:20260422T062752
Description:
END:VEVENT
END:VCALENDAR
