BEGIN:VCALENDAR
VERSION:2.0
PRODID:-//ZContent.net//ZapCalLib 1.0//EN
CALSCALE:GREGORIAN
METHOD:PUBLISH
BEGIN:VEVENT
SUMMARY:<strong>Discussion</strong>
DTSTART:20251008T182000
DTEND:20251008T203000
UID:<strong>Discussion</strong>55559_1776976224
DTSTAMP:20260423T203024
Description:
END:VEVENT
END:VCALENDAR
