BEGIN:VCALENDAR
VERSION:2.0
PRODID:-//ZContent.net//ZapCalLib 1.0//EN
CALSCALE:GREGORIAN
METHOD:PUBLISH
BEGIN:VEVENT
SUMMARY:<strong>Treatment Sequence in mUC</strong>
DTSTART:20251008T180500
DTEND:20251008T202000
UID:<strong>Treatment Sequence in mUC</strong>55558_1776792299
DTSTAMP:20260421T172459
Description:
END:VEVENT
END:VCALENDAR
