BEGIN:VCALENDAR
VERSION:2.0
PRODID:-//ZContent.net//ZapCalLib 1.0//EN
CALSCALE:GREGORIAN
METHOD:PUBLISH
BEGIN:VEVENT
SUMMARY:<strong>Lecture under the Patronage of Merck:<br />\nSequencing Is 
 Key — Individualization of Therapy in the Treatment of Bladder Cancer</s
 trong>
DTSTART:20251008T175000
DTEND:20251008T200000
UID:<strong>Lecture under the Patronage of Merck:<br />\nSequencing Is Key 
 — Individualization of Therapy in the Treatment of Bladder Cancer</stron
 g>55556_1776976134
DTSTAMP:20260423T202854
Description:
END:VEVENT
END:VCALENDAR
