BEGIN:VCALENDAR
VERSION:2.0
PRODID:-//ZContent.net//ZapCalLib 1.0//EN
CALSCALE:GREGORIAN
METHOD:PUBLISH
BEGIN:VEVENT
SUMMARY:<strong>Lecture under the Patronage of BMS:<br />\nHow to Choose th
 e First-Line Treatment in mUC</strong>
DTSTART:20251008T174000
DTEND:20251008T195000
UID:<strong>Lecture under the Patronage of BMS:<br />\nHow to Choose the Fi
 rst-Line Treatment in mUC</strong>55555_1776976135
DTSTAMP:20260423T202855
Description:
END:VEVENT
END:VCALENDAR
