BEGIN:VCALENDAR
VERSION:2.0
PRODID:-//ZContent.net//ZapCalLib 1.0//EN
CALSCALE:GREGORIAN
METHOD:PUBLISH
BEGIN:VEVENT
SUMMARY:<strong>Case 2 — Metastatic UC</strong>
DTSTART:20251008T173000
DTEND:20251008T194000
UID:<strong>Case 2 — Metastatic UC</strong>55554_1776976097
DTSTAMP:20260423T202817
Description:
END:VEVENT
END:VCALENDAR
