BEGIN:VCALENDAR
VERSION:2.0
PRODID:-//ZContent.net//ZapCalLib 1.0//EN
CALSCALE:GREGORIAN
METHOD:PUBLISH
BEGIN:VEVENT
SUMMARY:<strong>Discussion</strong>
DTSTART:20251008T172500
DTEND:20251008T193000
UID:<strong>Discussion</strong>55553_1776976420
DTSTAMP:20260423T203340
Description:
END:VEVENT
END:VCALENDAR
