BEGIN:VCALENDAR
VERSION:2.0
PRODID:-//ZContent.net//ZapCalLib 1.0//EN
CALSCALE:GREGORIAN
METHOD:PUBLISH
BEGIN:VEVENT
SUMMARY:<strong>Surgery in UC Carcinoma</strong>
DTSTART:20251008T171000
DTEND:20251008T192500
UID:<strong>Surgery in UC Carcinoma</strong>55552_1776864633
DTSTAMP:20260422T133033
Description:
END:VEVENT
END:VCALENDAR
