BEGIN:VCALENDAR
VERSION:2.0
PRODID:-//ZContent.net//ZapCalLib 1.0//EN
CALSCALE:GREGORIAN
METHOD:PUBLISH
BEGIN:VEVENT
SUMMARY:<strong>Current Standards in Perioperative Treatment in Urothelial 
 Carcinoma (UC)</strong>
DTSTART:20251008T164500
DTEND:20251008T191000
UID:<strong>Current Standards in Perioperative Treatment in Urothelial Carc
 inoma (UC)</strong>55551_1776949807
DTSTAMP:20260423T131007
Description:
END:VEVENT
END:VCALENDAR
