BEGIN:VCALENDAR
VERSION:2.0
PRODID:-//ZContent.net//ZapCalLib 1.0//EN
CALSCALE:GREGORIAN
METHOD:PUBLISH
BEGIN:VEVENT
SUMMARY:<strong>Case 1 </strong>—<strong> Perioperative Treatment</stron
 g>
DTSTART:20251008T163500
DTEND:20251008T184500
UID:<strong>Case 1 </strong>—<strong> Perioperative Treatment</strong>55
 550_1776949807
DTSTAMP:20260423T131007
Description:
END:VEVENT
END:VCALENDAR
