BEGIN:VCALENDAR
VERSION:2.0
PRODID:-//ZContent.net//ZapCalLib 1.0//EN
CALSCALE:GREGORIAN
METHOD:PUBLISH
BEGIN:VEVENT
SUMMARY:<strong>Introduction</strong>
DTSTART:20251008T163000
DTEND:20251008T183500
UID:<strong>Introduction</strong>55549_1776792299
DTSTAMP:20260421T172459
Description:
END:VEVENT
END:VCALENDAR
